BEGIN:VCALENDAR
VERSION:2.0
PRODID:-//Kilmore out of School Hours Care - ECPv4.8.2//NONSGML v1.0//EN
CALSCALE:GREGORIAN
METHOD:PUBLISH
X-WR-CALNAME:Kilmore out of School Hours Care
X-ORIGINAL-URL:https://kilmoreoshc.com.au
X-WR-CALDESC:Events for Kilmore out of School Hours Care
BEGIN:VEVENT
DTSTART;VALUE=DATE:20190419
DTEND;VALUE=DATE:20190420
DTSTAMP:20200301T231623
CREATED:20190329T080442Z
LAST-MODIFIED:20190331T020816Z
UID:859-1555632000-1555718399@kilmoreoshc.com.au
SUMMARY:Good Friday- Centres Closed due to Public Holiday
DESCRIPTION:Easter Public Holiday Centre Closed \n
URL:https://kilmoreoshc.com.au/event/good-friday/
ORGANIZER;CN="Kilmore%20Out%20of%20School%20Care":MAILTO:sutherland_street@bigpond.com
END:VEVENT
END:VCALENDAR