BEGIN:VCALENDAR
VERSION:2.0
PRODID:-//Kilmore out of School Hours Care - ECPv4.8.2//NONSGML v1.0//EN
CALSCALE:GREGORIAN
METHOD:PUBLISH
X-WR-CALNAME:Kilmore out of School Hours Care
X-ORIGINAL-URL:https://kilmoreoshc.com.au
X-WR-CALDESC:Events for Kilmore out of School Hours Care
BEGIN:VEVENT
DTSTART;TZID=UTC+0:20190417T113000
DTEND;TZID=UTC+0:20190417T153000
DTSTAMP:20200301T231530
CREATED:20190325T105234Z
LAST-MODIFIED:20190328T141126Z
UID:648-1555500600-1555515000@kilmoreoshc.com.au
SUMMARY:Epping OZ Ten Pin Bowling
DESCRIPTION:Epping Oz Ten Pin Bowling. Show us your skills as we head to Epping Oz Ten Pin Bowling. How many strikes can you get in one game? Please remember your child will need enclosed shoes and socks. Departs 11.30am Return 3.30pm \n
URL:https://kilmoreoshc.com.au/event/epping-oz-ten-pin-bowling/
ORGANIZER;CN="School%20Holiday":MAILTO:sutherland_street@bigpond.com
END:VEVENT
END:VCALENDAR