BEGIN:VCALENDAR
VERSION:2.0
PRODID:-//Kilmore out of School Hours Care - ECPv4.8.2//NONSGML v1.0//EN
CALSCALE:GREGORIAN
METHOD:PUBLISH
X-WR-CALNAME:Kilmore out of School Hours Care
X-ORIGINAL-URL:https://kilmoreoshc.com.au
X-WR-CALDESC:Events for Kilmore out of School Hours Care
BEGIN:VEVENT
DTSTART;TZID=UTC+0:20190410T090000
DTEND;TZID=UTC+0:20190410T160000
DTSTAMP:20200301T231307
CREATED:20190325T104243Z
LAST-MODIFIED:20190328T141640Z
UID:638-1554886800-1554912000@kilmoreoshc.com.au
SUMMARY:Greensborough Movies
DESCRIPTION:Greensborough Movies How does a nice relaxing day at the movies sound? We are heading to Greensborough to see either “Lego Movie 2” or “Dumbo”. Then we are off to Golden Sun Moth park for a picnic lunch and a play. Departs 9.00pm Return 4.00pm \n
URL:https://kilmoreoshc.com.au/event/greensborough-movies/
ORGANIZER;CN="Kilmore%20Out%20of%20School%20Care":MAILTO:sutherland_street@bigpond.com
END:VEVENT
END:VCALENDAR