BEGIN:VCALENDAR
VERSION:2.0
PRODID:-//Kilmore out of School Hours Care - ECPv4.8.2//NONSGML v1.0//EN
CALSCALE:GREGORIAN
METHOD:PUBLISH
X-WR-CALNAME:Kilmore out of School Hours Care
X-ORIGINAL-URL:https://kilmoreoshc.com.au
X-WR-CALDESC:Events for Kilmore out of School Hours Care
BEGIN:VEVENT
DTSTART;VALUE=DATE:20190411
DTEND;VALUE=DATE:20190412
DTSTAMP:20200301T224102
CREATED:20190325T104329Z
LAST-MODIFIED:20190328T120027Z
UID:640-1554940800-1555027199@kilmoreoshc.com.au
SUMMARY:Wonderland Tea Party
DESCRIPTION:Wonderland Tea Party Come with us as we take a journey down the rabbit hole with Lewis Carroll. We’ll be meeting the Mad Hatter at his tea party\, playing croquet with the Queen of Hearts and who knows what else this curious and curiouser day has in store? \n
URL:https://kilmoreoshc.com.au/event/wonderland-tea-party/
ORGANIZER;CN="Kilmore%20Out%20of%20School%20Care":MAILTO:sutherland_street@bigpond.com
END:VEVENT
END:VCALENDAR