BEGIN:VCALENDAR
VERSION:2.0
PRODID:-//Kilmore out of School Hours Care - ECPv4.8.2//NONSGML v1.0//EN
CALSCALE:GREGORIAN
METHOD:PUBLISH
X-WR-CALNAME:Kilmore out of School Hours Care
X-ORIGINAL-URL:https://kilmoreoshc.com.au
X-WR-CALDESC:Events for Kilmore out of School Hours Care
BEGIN:VEVENT
DTSTART;VALUE=DATE:20190416
DTEND;VALUE=DATE:20190417
DTSTAMP:20200301T224252
CREATED:20190325T104845Z
LAST-MODIFIED:20190328T141238Z
UID:646-1555372800-1555459199@kilmoreoshc.com.au
SUMMARY:Out Door Games vs Indoor Games
DESCRIPTION:Do you love board games\, or do you think they are bored games? Well today it is your choice! With plenty of games to choose from or you can make your own. \n
URL:https://kilmoreoshc.com.au/event/out-door-games-vs-indoor-games/
ORGANIZER;CN="Kilmore%20Out%20of%20School%20Care":MAILTO:sutherland_street@bigpond.com
END:VEVENT
END:VCALENDAR