BEGIN:VCALENDAR
VERSION:2.0
PRODID:-//Kilmore out of School Hours Care - ECPv4.8.2//NONSGML v1.0//EN
CALSCALE:GREGORIAN
METHOD:PUBLISH
X-WR-CALNAME:Kilmore out of School Hours Care
X-ORIGINAL-URL:https://kilmoreoshc.com.au
X-WR-CALDESC:Events for Kilmore out of School Hours Care
BEGIN:VEVENT
DTSTART;VALUE=DATE:20190409
DTEND;VALUE=DATE:20190410
DTSTAMP:20200301T223958
CREATED:20190325T104039Z
LAST-MODIFIED:20190328T141543Z
UID:635-1554768000-1554854399@kilmoreoshc.com.au
SUMMARY:Let’s Get Active
DESCRIPTION:Let’s Get Active Stretch those arms and warm up those legs\, it’s time to get moving! We have a fun filled day of games and sports. Come dressed as your favourite sports hero. \n
URL:https://kilmoreoshc.com.au/event/lets-get-active/
ORGANIZER;CN="Kilmore%20Out%20of%20School%20Care":MAILTO:sutherland_street@bigpond.com
END:VEVENT
END:VCALENDAR